BEGIN:VCALENDAR
VERSION:2.0
PRODID:-//time.you/holidays//NONSGML v1.0//EN
BEGIN:VEVENT
UID:b95c1d5a-2520-4ac1-849a-7b8c749bc1e1
DTSTAMP:20260420T202511Z
DTSTART;VALUE=DATE:20260104
SUMMARY:Independence Day (Myanmar)
END:VEVENT
END:VCALENDAR