BEGIN:VCALENDAR
VERSION:2.0
PRODID:-//time.you/holidays//NONSGML v1.0//EN
BEGIN:VEVENT
UID:be66d2ec-43d3-4ccf-ae98-d23f7082a391
DTSTAMP:20260421T004417Z
DTSTART;VALUE=DATE:20260719
SUMMARY:Martyrs' Day (Myanmar)
END:VEVENT
END:VCALENDAR