BEGIN:VCALENDAR
VERSION:2.0
PRODID:-//time.you/holidays//NONSGML v1.0//EN
BEGIN:VEVENT
UID:9e4e790c-b74c-432a-9f37-52564080293f
DTSTAMP:20260420T154358Z
DTSTART;VALUE=DATE:20260101
SUMMARY:New Year's Day (Myanmar)
END:VEVENT
END:VCALENDAR