BEGIN:VCALENDAR
VERSION:2.0
PRODID:-//time.you/holidays//NONSGML v1.0//EN
BEGIN:VEVENT
UID:e0fd3c0f-0241-4455-86de-5e1653e5a5b4
DTSTAMP:20260420T084232Z
DTSTART;VALUE=DATE:20310526
SUMMARY:Africa Day (observed) (Namibia)
END:VEVENT
END:VCALENDAR