BEGIN:VCALENDAR
VERSION:2.0
PRODID:-//time.you/holidays//NONSGML v1.0//EN
BEGIN:VEVENT
UID:2f79b308-7543-4ba0-9f01-339f320ef16b
DTSTAMP:20260422T071636Z
DTSTART;VALUE=DATE:20240225
SUMMARY:Burial ceremony of Dr. Hage Gottfried Geingob (Namibia)
END:VEVENT
END:VCALENDAR