BEGIN:VCALENDAR
VERSION:2.0
PRODID:-//time.you/holidays//NONSGML v1.0//EN
BEGIN:VEVENT
UID:3a116b0b-a6f6-47f9-a5f6-9def2a311cf4
DTSTAMP:20260424T164432Z
DTSTART;VALUE=DATE:20250301
SUMMARY:Burial ceremony of Dr. Sam Shafiishuna Nujoma (Namibia)
END:VEVENT
END:VCALENDAR