BEGIN:VCALENDAR
VERSION:2.0
PRODID:-//time.you/holidays//NONSGML v1.0//EN
BEGIN:VEVENT
UID:f0dbca3d-1548-4b4b-b95f-017bf7d63ce9
DTSTAMP:20260420T113358Z
DTSTART;VALUE=DATE:20260910
SUMMARY:Day of the Namibian Women and International Human Rights Day (Namibia)
END:VEVENT
END:VCALENDAR