BEGIN:VCALENDAR
VERSION:2.0
PRODID:-//time.you/holidays//NONSGML v1.0//EN
BEGIN:VEVENT
UID:a4422c8e-595d-471b-b867-e399ffcc3efc
DTSTAMP:20260421T051616Z
DTSTART;VALUE=DATE:20261226
SUMMARY:Family Day (Namibia)
END:VEVENT
END:VCALENDAR