BEGIN:VCALENDAR
VERSION:2.0
PRODID:-//time.you/holidays//NONSGML v1.0//EN
BEGIN:VEVENT
UID:4ab64df5-40c7-457a-aa91-b5974d9ae4f5
DTSTAMP:20260421T002056Z
DTSTART;VALUE=DATE:20270322
SUMMARY:Independence Day (observed) (Namibia)
END:VEVENT
END:VCALENDAR