BEGIN:VCALENDAR
VERSION:2.0
PRODID:-//time.you/holidays//NONSGML v1.0//EN
BEGIN:VEVENT
UID:a01b45f4-fd58-4f63-994d-efec042b406b
DTSTAMP:20260422T052759Z
DTSTART;VALUE=DATE:20340102
SUMMARY:New Year's Day (observed) (Namibia)
END:VEVENT
END:VCALENDAR