BEGIN:VCALENDAR
VERSION:2.0
PRODID:-//time.you/holidays//NONSGML v1.0//EN
BEGIN:VEVENT
UID:b16eacd2-1076-4ad9-84e1-4c57e56c6030
DTSTAMP:20260424T070828Z
DTSTART;VALUE=DATE:20261026
SUMMARY:Angam Day (Nauru)
END:VEVENT
END:VCALENDAR