BEGIN:VCALENDAR
VERSION:2.0
PRODID:-//time.you/holidays//NONSGML v1.0//EN
BEGIN:VEVENT
UID:fa1545f7-b462-4c43-b8ba-ca609e1d0f9c
DTSTAMP:20260420T022150Z
DTSTART;VALUE=DATE:20260517
SUMMARY:Constitution Day (Nauru)
END:VEVENT
END:VCALENDAR