BEGIN:VCALENDAR
VERSION:2.0
PRODID:-//time.you/holidays//NONSGML v1.0//EN
BEGIN:VEVENT
UID:39b3b1d6-8d7f-46a1-bc17-22d56c6574c3
DTSTAMP:20260424T122315Z
DTSTART;VALUE=DATE:20261228
SUMMARY:Day following Christmas (observed) (Nauru)
END:VEVENT
END:VCALENDAR