BEGIN:VCALENDAR
VERSION:2.0
PRODID:-//time.you/holidays//NONSGML v1.0//EN
BEGIN:VEVENT
UID:8a2ae08d-94b9-43c8-b3a7-35e285faae12
DTSTAMP:20260421T235646Z
DTSTART;VALUE=DATE:20260203
SUMMARY:Day following Independence Day (observed) (Nauru)
END:VEVENT
END:VCALENDAR