BEGIN:VCALENDAR
VERSION:2.0
PRODID:-//time.you/holidays//NONSGML v1.0//EN
BEGIN:VEVENT
UID:a192cda2-6cfc-4dd5-a8ce-249f590284c8
DTSTAMP:20260420T204405Z
DTSTART;VALUE=DATE:20260406
SUMMARY:Easter Monday (Nauru)
END:VEVENT
END:VCALENDAR