BEGIN:VCALENDAR
VERSION:2.0
PRODID:-//time.you/holidays//NONSGML v1.0//EN
BEGIN:VEVENT
UID:08e3a7ed-b48e-47fb-b429-88d7c91ca409
DTSTAMP:20260424T095607Z
DTSTART;VALUE=DATE:20260407
SUMMARY:Easter Tuesday (Nauru)
END:VEVENT
END:VCALENDAR