BEGIN:VCALENDAR
VERSION:2.0
PRODID:-//time.you/holidays//NONSGML v1.0//EN
BEGIN:VEVENT
UID:88e75cc0-e10e-408e-a6db-9cec1c0de8d1
DTSTAMP:20260420T024753Z
DTSTART;VALUE=DATE:20260308
SUMMARY:International Women's Day (Nauru)
END:VEVENT
END:VCALENDAR