BEGIN:VCALENDAR
VERSION:2.0
PRODID:-//time.you/holidays//NONSGML v1.0//EN
BEGIN:VEVENT
UID:6641a8ed-1630-4f6a-9dce-8527341c1cb6
DTSTAMP:20260424T091153Z
DTSTART;VALUE=DATE:20270927
SUMMARY:Sir Hammer DeRoburt Day (observed) (Nauru)
END:VEVENT
END:VCALENDAR