BEGIN:VCALENDAR
VERSION:2.0
PRODID:-//time.you/holidays//NONSGML v1.0//EN
BEGIN:VEVENT
UID:4e917b11-bc9a-418d-bb57-e63223958068
DTSTAMP:20260420T125841Z
DTSTART;VALUE=DATE:20260303
SUMMARY:Fagu Poornima (Terai) (Nepal)
END:VEVENT
END:VCALENDAR