BEGIN:VCALENDAR
VERSION:2.0
PRODID:-//time.you/holidays//NONSGML v1.0//EN
BEGIN:VEVENT
UID:120382c0-e4a0-4873-835b-3a3bffd2f36a
DTSTAMP:20260420T024711Z
DTSTART;VALUE=DATE:20260308
SUMMARY:International Women's Day (Nepal)
END:VEVENT
END:VCALENDAR