BEGIN:VCALENDAR
VERSION:2.0
PRODID:-//time.you/holidays//NONSGML v1.0//EN
BEGIN:VEVENT
UID:4b559514-5ba4-4fd5-9275-7b61a5f65f83
DTSTAMP:20260424T062718Z
DTSTART;VALUE=DATE:20260327
SUMMARY:Ram Navami (Nepal)
END:VEVENT
END:VCALENDAR