BEGIN:VCALENDAR
VERSION:2.0
PRODID:-//time.you/holidays//NONSGML v1.0//EN
BEGIN:VEVENT
UID:4a042030-b4be-4218-8134-de28a89740f0
DTSTAMP:20260423T162944Z
DTSTART;VALUE=DATE:20260403
SUMMARY:Good Friday (Netherlands)
END:VEVENT
END:VCALENDAR