BEGIN:VCALENDAR
VERSION:2.0
PRODID:-//time.you/holidays//NONSGML v1.0//EN
BEGIN:VEVENT
UID:dce54af5-f297-42c9-b6b4-ff927682d92b
DTSTAMP:20260420T162148Z
DTSTART;VALUE=DATE:20260427
SUMMARY:King's Day (Netherlands)
END:VEVENT
END:VCALENDAR