BEGIN:VCALENDAR
VERSION:2.0
PRODID:-//time.you/holidays//NONSGML v1.0//EN
BEGIN:VEVENT
UID:0dc7d42e-dfe3-4ac8-a6a1-3678f0abc425
DTSTAMP:20260419T233516Z
DTSTART;VALUE=DATE:20260101
SUMMARY:New Year's Day (Netherlands)
END:VEVENT
END:VCALENDAR