BEGIN:VCALENDAR
VERSION:2.0
PRODID:-//time.you/holidays//NONSGML v1.0//EN
BEGIN:VEVENT
UID:e604d698-684a-481d-af3a-3ad9c1048748
DTSTAMP:20260420T061826Z
DTSTART;VALUE=DATE:20260525
SUMMARY:Whit Monday (Netherlands)
END:VEVENT
END:VCALENDAR