BEGIN:VCALENDAR
VERSION:2.0
PRODID:-//time.you/holidays//NONSGML v1.0//EN
BEGIN:VEVENT
UID:08a8fcc8-79b9-4d4a-95f2-6b76f8b4c9eb
DTSTAMP:20260421T155749Z
DTSTART;VALUE=DATE:20261101
SUMMARY:All Saints' Day (New Caledonia)
END:VEVENT
END:VCALENDAR