BEGIN:VCALENDAR
VERSION:2.0
PRODID:-//time.you/holidays//NONSGML v1.0//EN
BEGIN:VEVENT
UID:09928130-12ee-4463-8376-23fd3f5b90c4
DTSTAMP:20260421T194345Z
DTSTART;VALUE=DATE:20261111
SUMMARY:Armistice Day (New Caledonia)
END:VEVENT
END:VCALENDAR