BEGIN:VCALENDAR
VERSION:2.0
PRODID:-//time.you/holidays//NONSGML v1.0//EN
BEGIN:VEVENT
UID:e9985905-5e4a-4dca-8e36-7d8ac5edb173
DTSTAMP:20260421T210747Z
DTSTART;VALUE=DATE:20261225
SUMMARY:Christmas Day (New Caledonia)
END:VEVENT
END:VCALENDAR