BEGIN:VCALENDAR
VERSION:2.0
PRODID:-//time.you/holidays//NONSGML v1.0//EN
BEGIN:VEVENT
UID:d56d622b-02ca-4d97-b466-40a04da4106d
DTSTAMP:20260421T124834Z
DTSTART;VALUE=DATE:20260501
SUMMARY:Labor Day (New Caledonia)
END:VEVENT
END:VCALENDAR