BEGIN:VCALENDAR
VERSION:2.0
PRODID:-//time.you/holidays//NONSGML v1.0//EN
BEGIN:VEVENT
UID:50869ca3-4f59-43f8-8f49-c8f193bb95ff
DTSTAMP:20260420T084406Z
DTSTART;VALUE=DATE:20260714
SUMMARY:National Day (New Caledonia)
END:VEVENT
END:VCALENDAR