BEGIN:VCALENDAR
VERSION:2.0
PRODID:-//time.you/holidays//NONSGML v1.0//EN
BEGIN:VEVENT
UID:f619380c-4557-49be-802b-6e99ecb56779
DTSTAMP:20260422T073831Z
DTSTART;VALUE=DATE:20260126
SUMMARY:Auckland Anniversary Day (New Zealand)
END:VEVENT
END:VCALENDAR