BEGIN:VCALENDAR
VERSION:2.0
PRODID:-//time.you/holidays//NONSGML v1.0//EN
BEGIN:VEVENT
UID:994743de-8539-4162-90f7-9dd6eb2d4cf0
DTSTAMP:20260424T122317Z
DTSTART;VALUE=DATE:20261226
SUMMARY:Boxing Day (New Zealand)
END:VEVENT
END:VCALENDAR