BEGIN:VCALENDAR
VERSION:2.0
PRODID:-//time.you/holidays//NONSGML v1.0//EN
BEGIN:VEVENT
UID:dafb2ab3-a8d9-4c64-85de-bee3062a831d
DTSTAMP:20260420T013827Z
DTSTART;VALUE=DATE:20261225
SUMMARY:Christmas Day (New Zealand)
END:VEVENT
END:VCALENDAR