BEGIN:VCALENDAR
VERSION:2.0
PRODID:-//time.you/holidays//NONSGML v1.0//EN
BEGIN:VEVENT
UID:b03633b2-31c0-4254-8440-d82e7720bb58
DTSTAMP:20260420T005950Z
DTSTART;VALUE=DATE:20261102
SUMMARY:Marlborough Anniversary Day (New Zealand)
END:VEVENT
END:VCALENDAR