BEGIN:VCALENDAR
VERSION:2.0
PRODID:-//time.you/holidays//NONSGML v1.0//EN
BEGIN:VEVENT
UID:9900c1f1-33fd-40e1-8f6a-dd9844042841
DTSTAMP:20260419T235606Z
DTSTART;VALUE=DATE:20260101
SUMMARY:New Year's Day (New Zealand)
END:VEVENT
END:VCALENDAR