BEGIN:VCALENDAR
VERSION:2.0
PRODID:-//time.you/holidays//NONSGML v1.0//EN
BEGIN:VEVENT
UID:05991d9f-0e7b-4f1d-b07c-61087fada3d3
DTSTAMP:20260420T022254Z
DTSTART;VALUE=DATE:20220926
SUMMARY:Queen Elizabeth II Memorial Day; South Canterbury Anniversary Day (New Zealand)
END:VEVENT
END:VCALENDAR