BEGIN:VCALENDAR
VERSION:2.0
PRODID:-//time.you/holidays//NONSGML v1.0//EN
BEGIN:VEVENT
UID:a5538e1c-5c14-4030-964e-d1d94b603916
DTSTAMP:20260420T022256Z
DTSTART;VALUE=DATE:20220926
SUMMARY:Queen Elizabeth II Memorial Day (New Zealand)
END:VEVENT
END:VCALENDAR