BEGIN:VCALENDAR
VERSION:2.0
PRODID:-//time.you/holidays//NONSGML v1.0//EN
BEGIN:VEVENT
UID:64943cba-394b-41b6-85ea-d891ff642a1e
DTSTAMP:20260422T100529Z
DTSTART;VALUE=DATE:20260407
SUMMARY:Southland Anniversary Day (New Zealand)
END:VEVENT
END:VCALENDAR