BEGIN:VCALENDAR
VERSION:2.0
PRODID:-//time.you/holidays//NONSGML v1.0//EN
BEGIN:VEVENT
UID:ddf01bd0-9705-41bf-99bc-d9164d386c56
DTSTAMP:20260420T005955Z
DTSTART;VALUE=DATE:20260309
SUMMARY:Taranaki Anniversary Day (New Zealand)
END:VEVENT
END:VCALENDAR