BEGIN:VCALENDAR
VERSION:2.0
PRODID:-//time.you/holidays//NONSGML v1.0//EN
BEGIN:VEVENT
UID:1fd868a6-1685-4262-8efb-a6ecfb2f2a93
DTSTAMP:20260420T010823Z
DTSTART;VALUE=DATE:20260206
SUMMARY:Waitangi Day (New Zealand)
END:VEVENT
END:VCALENDAR