BEGIN:VCALENDAR
VERSION:2.0
PRODID:-//time.you/holidays//NONSGML v1.0//EN
BEGIN:VEVENT
UID:8282445f-fcb6-4a78-a3ac-aee0670fc18a
DTSTAMP:20260420T005956Z
DTSTART;VALUE=DATE:20261130
SUMMARY:West Coast Anniversary Day (New Zealand)
END:VEVENT
END:VCALENDAR