BEGIN:VCALENDAR
VERSION:2.0
PRODID:-//time.you/holidays//NONSGML v1.0//EN
BEGIN:VEVENT
UID:ffbf4981-e891-439e-9374-b85990b1b623
DTSTAMP:20260424T164321Z
DTSTART;VALUE=DATE:20260914
SUMMARY:Battle of San Jacinto Day (Nicaragua)
END:VEVENT
END:VCALENDAR