BEGIN:VCALENDAR
VERSION:2.0
PRODID:-//time.you/holidays//NONSGML v1.0//EN
BEGIN:VEVENT
UID:2190b5bd-6aed-4665-a455-c620acf6456e
DTSTAMP:20260421T143539Z
DTSTART;VALUE=DATE:20261225
SUMMARY:Christmas Day (Nicaragua)
END:VEVENT
END:VCALENDAR