BEGIN:VCALENDAR
VERSION:2.0
PRODID:-//time.you/holidays//NONSGML v1.0//EN
BEGIN:VEVENT
UID:604b42b5-2814-4e57-865e-75b7937c4a07
DTSTAMP:20260421T124709Z
DTSTART;VALUE=DATE:20260403
SUMMARY:Good Friday (Nicaragua)
END:VEVENT
END:VCALENDAR