BEGIN:VCALENDAR
VERSION:2.0
PRODID:-//time.you/holidays//NONSGML v1.0//EN
BEGIN:VEVENT
UID:49c05962-a9f1-48f6-8039-768572bbae37
DTSTAMP:20260420T101721Z
DTSTART;VALUE=DATE:20260915
SUMMARY:Independence Day (Nicaragua)
END:VEVENT
END:VCALENDAR