BEGIN:VCALENDAR
VERSION:2.0
PRODID:-//time.you/holidays//NONSGML v1.0//EN
BEGIN:VEVENT
UID:32d83e30-8fa9-43ce-a64a-21702bd17548
DTSTAMP:20260421T113401Z
DTSTART;VALUE=DATE:20260501
SUMMARY:Labor Day (Nicaragua)
END:VEVENT
END:VCALENDAR