BEGIN:VCALENDAR
VERSION:2.0
PRODID:-//time.you/holidays//NONSGML v1.0//EN
BEGIN:VEVENT
UID:94940a03-0942-43a6-832a-ee349a9b588a
DTSTAMP:20260420T003424Z
DTSTART;VALUE=DATE:20260402
SUMMARY:Maundy Thursday (Nicaragua)
END:VEVENT
END:VCALENDAR