BEGIN:VCALENDAR
VERSION:2.0
PRODID:-//time.you/holidays//NONSGML v1.0//EN
BEGIN:VEVENT
UID:cde151cb-18a2-49d3-b144-05ee8f9a1f79
DTSTAMP:20260421T211630Z
DTSTART;VALUE=DATE:20260719
SUMMARY:Revolution Day (Nicaragua)
END:VEVENT
END:VCALENDAR