BEGIN:VCALENDAR
VERSION:2.0
PRODID:-//time.you/holidays//NONSGML v1.0//EN
BEGIN:VEVENT
UID:caa7c2aa-df5d-47ca-88e9-d088d14c9a8f
DTSTAMP:20260420T012524Z
DTSTART;VALUE=DATE:20260726
SUMMARY:Anniversary of the CNSP Coup (Niger)
END:VEVENT
END:VCALENDAR