BEGIN:VCALENDAR
VERSION:2.0
PRODID:-//time.you/holidays//NONSGML v1.0//EN
BEGIN:VEVENT
UID:d16f2ed8-251c-4e81-b2cd-43e613668233
DTSTAMP:20260421T224359Z
DTSTART;VALUE=DATE:20310804
SUMMARY:Anniversary of the Proclamation of Independence (observed) (Niger)
END:VEVENT
END:VCALENDAR